BEGIN:VCALENDAR
VERSION:2.0
PRODID:-//Landliäben e.V. - ECPv6.15.20//NONSGML v1.0//EN
CALSCALE:GREGORIAN
METHOD:PUBLISH
X-WR-CALNAME:Landliäben e.V.
X-ORIGINAL-URL:https://xn--landliben-02a.de
X-WR-CALDESC:Veranstaltungen für Landliäben e.V.
REFRESH-INTERVAL;VALUE=DURATION:PT1H
X-Robots-Tag:noindex
X-PUBLISHED-TTL:PT1H
BEGIN:VTIMEZONE
TZID:Europe/Berlin
BEGIN:DAYLIGHT
TZOFFSETFROM:+0100
TZOFFSETTO:+0200
TZNAME:CEST
DTSTART:20220327T010000
END:DAYLIGHT
BEGIN:STANDARD
TZOFFSETFROM:+0200
TZOFFSETTO:+0100
TZNAME:CET
DTSTART:20221030T010000
END:STANDARD
BEGIN:DAYLIGHT
TZOFFSETFROM:+0100
TZOFFSETTO:+0200
TZNAME:CEST
DTSTART:20230326T010000
END:DAYLIGHT
BEGIN:STANDARD
TZOFFSETFROM:+0200
TZOFFSETTO:+0100
TZNAME:CET
DTSTART:20231029T010000
END:STANDARD
BEGIN:DAYLIGHT
TZOFFSETFROM:+0100
TZOFFSETTO:+0200
TZNAME:CEST
DTSTART:20240331T010000
END:DAYLIGHT
BEGIN:STANDARD
TZOFFSETFROM:+0200
TZOFFSETTO:+0100
TZNAME:CET
DTSTART:20241027T010000
END:STANDARD
END:VTIMEZONE
BEGIN:VEVENT
DTSTART;TZID=Europe/Berlin:20230916T140000
DTEND;TZID=Europe/Berlin:20230916T170000
DTSTAMP:20260419T232807
CREATED:20230710T135302Z
LAST-MODIFIED:20230913T114419Z
UID:573-1694872800-1694883600@xn--landliben-02a.de
SUMMARY:Dreschtag
DESCRIPTION:Die Getreidegarben werden mit der Dreschmaschine ausgedroschen. \nAm Samstag\, 16. September 2023 sind um 14 Uhr und 16 Uhr auf dem Hof Louven in Bönen-Flierich Dreschvorführungen geplant. Es wird der im Juli und August geerntete Weizen mit dem Dreschkasten gedroschen. Auch wird mit einer mobilen Mühle das Schroten des Getreides dargestellt. Mit dabei sind natürlich auch wieder historische Trecker und Geräte zu sehen. Die Treckerfreunde beantworten alle damit verbundenen Fragen zum Dreschen und zu den Maschinen.
URL:https://xn--landliben-02a.de/kalender/dreschtag/
LOCATION:Hof Louven\, Bönen-Flierich\, 59199
END:VEVENT
BEGIN:VEVENT
DTSTART;TZID=Europe/Berlin:20230923T140000
DTEND;TZID=Europe/Berlin:20230923T163000
DTSTAMP:20260419T232807
CREATED:20230710T135431Z
LAST-MODIFIED:20230916T110559Z
UID:575-1695477600-1695486600@xn--landliben-02a.de
SUMMARY:Natur erleben mit dem Rad
DESCRIPTION:Der Apfel war nicht gleich am Baum …. \nAlles um die Frucht des Herbstes soll erlebt werden: die Streuobstwiese als wertvoller und wichtiger Lebensraum\, die Sortenvielfalt sowie die damit verbundene Geschmacksvielfalt der Sorten und Genuss. \nDer Arbeitskreis Landliäben im Jahreskreis lädt zum Natur erleben mit dem Rad herzlich ein. Gäste sind herzlich willkommen.\nWeitere Folgetermine über das Jahr sind wieder geplant und werden rechtzeitig bekanntgegeben. \nDie Veranstaltung findet bei fast jedem Wetter statt. Daher bitte an angepasste Kleidung und festes Schuhwerk denken.
URL:https://xn--landliben-02a.de/kalender/naturerlebenmitdemrad-2/
LOCATION:Parkplatz Hellwegschule\, Fischerstr. 120\, Hamm-Berge\, 59069
END:VEVENT
BEGIN:VEVENT
DTSTART;TZID=Europe/Berlin:20230930T000000
DTEND;TZID=Europe/Berlin:20231003T235959
DTSTAMP:20260419T232807
CREATED:20230710T135550Z
LAST-MODIFIED:20230710T135550Z
UID:577-1696032000-1696377599@xn--landliben-02a.de
SUMMARY:Mehrtägige Treckerausfahrt
DESCRIPTION:Die Treckerfreunde unternehmen eine mehrtägige Ausfahrt mit ihren Oldtimertreckern zu interessanten Zielen. Anmeldung bitte bei Dirk Conrady.
URL:https://xn--landliben-02a.de/kalender/mehrtaegige-treckerausfahrt/
END:VEVENT
END:VCALENDAR