BEGIN:VCALENDAR
VERSION:2.0
PRODID:-//Landliäben e.V. - ECPv6.15.20//NONSGML v1.0//EN
CALSCALE:GREGORIAN
METHOD:PUBLISH
X-WR-CALNAME:Landliäben e.V.
X-ORIGINAL-URL:https://xn--landliben-02a.de
X-WR-CALDESC:Veranstaltungen für Landliäben e.V.
REFRESH-INTERVAL;VALUE=DURATION:PT1H
X-Robots-Tag:noindex
X-PUBLISHED-TTL:PT1H
BEGIN:VTIMEZONE
TZID:Europe/Berlin
BEGIN:DAYLIGHT
TZOFFSETFROM:+0100
TZOFFSETTO:+0200
TZNAME:CEST
DTSTART:20230326T010000
END:DAYLIGHT
BEGIN:STANDARD
TZOFFSETFROM:+0200
TZOFFSETTO:+0100
TZNAME:CET
DTSTART:20231029T010000
END:STANDARD
BEGIN:DAYLIGHT
TZOFFSETFROM:+0100
TZOFFSETTO:+0200
TZNAME:CEST
DTSTART:20240331T010000
END:DAYLIGHT
BEGIN:STANDARD
TZOFFSETFROM:+0200
TZOFFSETTO:+0100
TZNAME:CET
DTSTART:20241027T010000
END:STANDARD
BEGIN:DAYLIGHT
TZOFFSETFROM:+0100
TZOFFSETTO:+0200
TZNAME:CEST
DTSTART:20250330T010000
END:DAYLIGHT
BEGIN:STANDARD
TZOFFSETFROM:+0200
TZOFFSETTO:+0100
TZNAME:CET
DTSTART:20251026T010000
END:STANDARD
END:VTIMEZONE
BEGIN:VEVENT
DTSTART;TZID=Europe/Berlin:20240317T100000
DTEND;TZID=Europe/Berlin:20240317T123000
DTSTAMP:20260419T164845
CREATED:20231213T085114Z
LAST-MODIFIED:20231213T085114Z
UID:1036-1710669600-1710678600@xn--landliben-02a.de
SUMMARY:Pflanzen- und Tierbestimmung für jede(n) – Frühblüher in Kooperation mit NABU Hamm
DESCRIPTION:Wir wollen einen Spaziergang durch die Berger Kulturlandschaft machen und schauen\, welche Blüten wir schon entdecken können. \nDie Pflanzen werden mit einer der bekannten Bestimmungsapps bestimmt. Gleichzeitig wollen wir uns mit den Möglichkeiten beschäftigen\, auf diesem Weg in der Form von CitizenScience an der wissenschaftlichen Erforschung unserer Heimat teilzuhaben.
URL:https://xn--landliben-02a.de/kalender/pflanzen-und-tierbestimmung-fuer-jeden-fruehblueher-in-kooperation-mit-nabu-hamm/
LOCATION:Parkplatz Hellwegschule\, Fischerstr. 120\, Hamm-Berge\, 59069
END:VEVENT
END:VCALENDAR