BEGIN:VCALENDAR
VERSION:2.0
PRODID:-//Landliäben e.V. - ECPv6.15.20//NONSGML v1.0//EN
CALSCALE:GREGORIAN
METHOD:PUBLISH
X-WR-CALNAME:Landliäben e.V.
X-ORIGINAL-URL:https://xn--landliben-02a.de
X-WR-CALDESC:Veranstaltungen für Landliäben e.V.
REFRESH-INTERVAL;VALUE=DURATION:PT1H
X-Robots-Tag:noindex
X-PUBLISHED-TTL:PT1H
BEGIN:VTIMEZONE
TZID:Europe/Berlin
BEGIN:DAYLIGHT
TZOFFSETFROM:+0100
TZOFFSETTO:+0200
TZNAME:CEST
DTSTART:20230326T010000
END:DAYLIGHT
BEGIN:STANDARD
TZOFFSETFROM:+0200
TZOFFSETTO:+0100
TZNAME:CET
DTSTART:20231029T010000
END:STANDARD
BEGIN:DAYLIGHT
TZOFFSETFROM:+0100
TZOFFSETTO:+0200
TZNAME:CEST
DTSTART:20240331T010000
END:DAYLIGHT
BEGIN:STANDARD
TZOFFSETFROM:+0200
TZOFFSETTO:+0100
TZNAME:CET
DTSTART:20241027T010000
END:STANDARD
BEGIN:DAYLIGHT
TZOFFSETFROM:+0100
TZOFFSETTO:+0200
TZNAME:CEST
DTSTART:20250330T010000
END:DAYLIGHT
BEGIN:STANDARD
TZOFFSETFROM:+0200
TZOFFSETTO:+0100
TZNAME:CET
DTSTART:20251026T010000
END:STANDARD
END:VTIMEZONE
BEGIN:VEVENT
DTSTART;TZID=Europe/Berlin:20240202T193000
DTEND;TZID=Europe/Berlin:20240202T220000
DTSTAMP:20260419T170525
CREATED:20231213T084411Z
LAST-MODIFIED:20240115T122312Z
UID:1030-1706902200-1706911200@xn--landliben-02a.de
SUMMARY:Lichtmesstreff
DESCRIPTION:Mit Lichtmess endete die Weihnachtszeit und damit die Winterpause im bäuerlichen Jahresrhythmus. Bei langem Tageslicht konnten wieder die Außenarbeiten beginnen. \nDie Abhängigkeiten von der Natur\, die Merkmale der einzelnen Jahreszeiten und die damit verbundenen Aufgaben und Arbeiten waren fest umrissen. \nEs gab auch klare Regeln für Zeiten der Ruhe und Entspannung und eine tiefe Achtung vor der Schöpfung. \nDiese Regeln auf unsere heutige Zeit übertragen würde uns guttun. \nLaot us maol drüöwer küern!
URL:https://xn--landliben-02a.de/kalender/lichtmesstreff/
LOCATION:Pfarrheim St. Elisabeth in Berge\,\, Werler Str. 322\, Hamm-Berge\, 59069
CATEGORIES:Jahreskreis
END:VEVENT
END:VCALENDAR