BEGIN:VCALENDAR
VERSION:2.0
PRODID:-//Landliäben e.V. - ECPv6.15.20//NONSGML v1.0//EN
CALSCALE:GREGORIAN
METHOD:PUBLISH
X-WR-CALNAME:Landliäben e.V.
X-ORIGINAL-URL:https://xn--landliben-02a.de
X-WR-CALDESC:Veranstaltungen für Landliäben e.V.
REFRESH-INTERVAL;VALUE=DURATION:PT1H
X-Robots-Tag:noindex
X-PUBLISHED-TTL:PT1H
BEGIN:VTIMEZONE
TZID:Europe/Berlin
BEGIN:DAYLIGHT
TZOFFSETFROM:+0100
TZOFFSETTO:+0200
TZNAME:CEST
DTSTART:20220327T010000
END:DAYLIGHT
BEGIN:STANDARD
TZOFFSETFROM:+0200
TZOFFSETTO:+0100
TZNAME:CET
DTSTART:20221030T010000
END:STANDARD
BEGIN:DAYLIGHT
TZOFFSETFROM:+0100
TZOFFSETTO:+0200
TZNAME:CEST
DTSTART:20230326T010000
END:DAYLIGHT
BEGIN:STANDARD
TZOFFSETFROM:+0200
TZOFFSETTO:+0100
TZNAME:CET
DTSTART:20231029T010000
END:STANDARD
BEGIN:DAYLIGHT
TZOFFSETFROM:+0100
TZOFFSETTO:+0200
TZNAME:CEST
DTSTART:20240331T010000
END:DAYLIGHT
BEGIN:STANDARD
TZOFFSETFROM:+0200
TZOFFSETTO:+0100
TZNAME:CET
DTSTART:20241027T010000
END:STANDARD
END:VTIMEZONE
BEGIN:VEVENT
DTSTART;TZID=Europe/Berlin:20231125T140000
DTEND;TZID=Europe/Berlin:20231125T170000
DTSTAMP:20260419T220313
CREATED:20230710T135803Z
LAST-MODIFIED:20231124T093105Z
UID:581-1700920800-1700931600@xn--landliben-02a.de
SUMMARY:Naturspaziergang „Das Gesicht der Bäume im Winter“   ! Treffpunktänderung beachten !
DESCRIPTION:Jetzt fällt ein Teil des Baumes ins Auge\, der sonst im Schatten des grünen Blätterdaches kaum zur Geltung kommt: der Stamm mit seiner charakteristischen Rinde. \nDies ist das Thema beim Naturspaziergang des Arbeitskreises „Landliäben im Jahreskreis“ im Spätherbst am Samstag\, 25. November 2023 um 14.00 Uhr auf dem Biolandhof Frölich\, Fischerstr. 55 in Hamm-Berge. \nWahrnehmen\, empfinden und erkennen – dem Rhythmus der Natur folgen. \nDer Arbeitskreis Landliäben im Jahreskreis lädt dazu herzlich ein. Gäste sind willkommen. \nBitte beachten: der Treffpunkt musste verändert werden\, da die Dahlwiese und die Wälder stark vernässt sind! \nDie Veranstaltungen finden bei fast jedem Wetter statt. Angepasste Kleidung und festes Schuhwerk ist zu dieser Jahreszeit angebracht.
URL:https://xn--landliben-02a.de/kalender/naturspaziergang-die-natur-kommt-zur-ruhe/
LOCATION:Biolandhof Frölich\, Fischerstr. 55\, Hamm-Berge\, 59069
CATEGORIES:Jahreskreis
END:VEVENT
END:VCALENDAR