BEGIN:VCALENDAR
VERSION:2.0
PRODID:-//Landliäben e.V. - ECPv6.15.20//NONSGML v1.0//EN
CALSCALE:GREGORIAN
METHOD:PUBLISH
X-WR-CALNAME:Landliäben e.V.
X-ORIGINAL-URL:https://xn--landliben-02a.de
X-WR-CALDESC:Veranstaltungen für Landliäben e.V.
REFRESH-INTERVAL;VALUE=DURATION:PT1H
X-Robots-Tag:noindex
X-PUBLISHED-TTL:PT1H
BEGIN:VTIMEZONE
TZID:Europe/Berlin
BEGIN:DAYLIGHT
TZOFFSETFROM:+0100
TZOFFSETTO:+0200
TZNAME:CEST
DTSTART:20220327T010000
END:DAYLIGHT
BEGIN:STANDARD
TZOFFSETFROM:+0200
TZOFFSETTO:+0100
TZNAME:CET
DTSTART:20221030T010000
END:STANDARD
BEGIN:DAYLIGHT
TZOFFSETFROM:+0100
TZOFFSETTO:+0200
TZNAME:CEST
DTSTART:20230326T010000
END:DAYLIGHT
BEGIN:STANDARD
TZOFFSETFROM:+0200
TZOFFSETTO:+0100
TZNAME:CET
DTSTART:20231029T010000
END:STANDARD
BEGIN:DAYLIGHT
TZOFFSETFROM:+0100
TZOFFSETTO:+0200
TZNAME:CEST
DTSTART:20240331T010000
END:DAYLIGHT
BEGIN:STANDARD
TZOFFSETFROM:+0200
TZOFFSETTO:+0100
TZNAME:CET
DTSTART:20241027T010000
END:STANDARD
END:VTIMEZONE
BEGIN:VEVENT
DTSTART;TZID=Europe/Berlin:20230426T170000
DTEND;TZID=Europe/Berlin:20230426T190000
DTSTAMP:20260420T084317
CREATED:20230710T134229Z
LAST-MODIFIED:20230710T145126Z
UID:557-1682528400-1682535600@xn--landliben-02a.de
SUMMARY:Gartenkreis – Tomaten (alte Sorten)
DESCRIPTION:  \nMitte März fand unser letztes Treffen statt.\nBei diesem Nachmittag haben die anwesenden Mitglieder samen von „alten Tomatensorten“ bekommen. \n\nMittlerweile sind aus den Samen kleine Tomatenpflanzen gewachsen. Zeit zum tauschen für viel Artenreichtum. \nWir werden uns über Tomatensorten (alte Sorten) Gedanken machen\, den Tomatenpflanzen-Tausch von Setzlingen durchführen (26.04.)\, die Tomaten probieren und das Kräftigen der Pflanzen (14.06.) und leckere Rezepte besprechen.\nAnmeldungen bitte unter 02385-8990.
URL:https://xn--landliben-02a.de/kalender/gartenkreis-tomaten-alte-sorten/
END:VEVENT
END:VCALENDAR